BEGIN:VCALENDAR
VERSION:2.0
PRODID:-//Loaves &amp; Fishes - ECPv6.15.20//NONSGML v1.0//EN
CALSCALE:GREGORIAN
METHOD:PUBLISH
X-WR-CALNAME:Loaves &amp; Fishes
X-ORIGINAL-URL:https://www.loavesandfishesmn.org
X-WR-CALDESC:Events for Loaves &amp; Fishes
REFRESH-INTERVAL;VALUE=DURATION:PT1H
X-Robots-Tag:noindex
X-PUBLISHED-TTL:PT1H
BEGIN:VTIMEZONE
TZID:UTC
BEGIN:STANDARD
TZOFFSETFROM:+0000
TZOFFSETTO:+0000
TZNAME:UTC
DTSTART:20220101T000000
END:STANDARD
END:VTIMEZONE
BEGIN:VTIMEZONE
TZID:America/Detroit
BEGIN:DAYLIGHT
TZOFFSETFROM:-0500
TZOFFSETTO:-0400
TZNAME:EDT
DTSTART:20230312T070000
END:DAYLIGHT
BEGIN:STANDARD
TZOFFSETFROM:-0400
TZOFFSETTO:-0500
TZNAME:EST
DTSTART:20231105T060000
END:STANDARD
BEGIN:DAYLIGHT
TZOFFSETFROM:-0500
TZOFFSETTO:-0400
TZNAME:EDT
DTSTART:20240310T070000
END:DAYLIGHT
BEGIN:STANDARD
TZOFFSETFROM:-0400
TZOFFSETTO:-0500
TZNAME:EST
DTSTART:20241103T060000
END:STANDARD
BEGIN:DAYLIGHT
TZOFFSETFROM:-0500
TZOFFSETTO:-0400
TZNAME:EDT
DTSTART:20250309T070000
END:DAYLIGHT
BEGIN:STANDARD
TZOFFSETFROM:-0400
TZOFFSETTO:-0500
TZNAME:EST
DTSTART:20251102T060000
END:STANDARD
END:VTIMEZONE
BEGIN:VEVENT
DTSTART;TZID=UTC:20240418T093000
DTEND;TZID=UTC:20240418T113000
DTSTAMP:20260423T021928
CREATED:20240309T005803Z
LAST-MODIFIED:20240622T212916Z
UID:9856-1713432600-1713439800@www.loavesandfishesmn.org
SUMMARY:Lattes With Latisha
DESCRIPTION:We want to extend a heartfelt thank you to our dedicated volunteers during Volunteer Appreciation Month. Join our Director of Volunteers & Outreach Latisha for an open house-style event on Thursday\, April 18th from 9:30am until 11:30am at our Loaves & Fishes Office. We will be offering office & warehouse tours alongside great conversation\, delicious donuts\, and coffee. All guests will have a chance to win a raffle prize. We look forward to hosting you!
URL:https://www.loavesandfishesmn.org/event/lattes-with-latisha/
LOCATION:Loaves & Fishes Office\, 721 Kasota Ave. SE\, Minnesota\, 55414\, United States
ATTACH;FMTTYPE=image/png:https://www.loavesandfishesmn.org/wp-content/uploads/2024/03/Lattes.png
END:VEVENT
BEGIN:VEVENT
DTSTART;TZID=America/Detroit:20240416T160000
DTEND;TZID=America/Detroit:20240416T180000
DTSTAMP:20260423T021928
CREATED:20240531T205849Z
LAST-MODIFIED:20240622T212910Z
UID:38-1713283200-1713290400@www.loavesandfishesmn.org
SUMMARY:Lemonade with Latisha
DESCRIPTION:We want to extend a heartfelt thank you to our dedicated volunteers during Volunteer Appreciation Month. Join our Director of Volunteers & Outreach Latisha for an open house-style event on Tuesday\, April 16th from 4:00-6:00pm at our Loaves & Fishes Office. We will be offering office & warehouse tours alongside great conversation\, delicious treats\, and lemonade. All guests will have a chance to win a raffle prize. We look forward to hosting you!
URL:https://www.loavesandfishesmn.org/event/lemonade-with-latisha/
LOCATION:Loaves & Fishes Office\, 721 Kasota Ave. SE\, Minnesota\, 55414\, United States
ATTACH;FMTTYPE=image/png:https://www.loavesandfishesmn.org/wp-content/uploads/2024/05/Lemonade.png
END:VEVENT
BEGIN:VEVENT
DTSTART;TZID=UTC:20240311T120000
DTEND;TZID=UTC:20240311T210000
DTSTAMP:20260423T021928
CREATED:20240209T200821Z
LAST-MODIFIED:20240622T212843Z
UID:9659-1710158400-1710190800@www.loavesandfishesmn.org
SUMMARY:LTD Brewing Give Back Monday & Bingo
DESCRIPTION:We are thrilled to partner with LTD Brewing who has chosen Loaves & Fishes as their Give Back Monday partner for Monday March 11th. From noon to 9pm\, 20% of all sales will be donated back to Loaves & Fishes. LTD Brewing offers beer\, non-alcoholic beverages\, snacks\, and merchandise. Gift card sales and to-go orders are also included. \n\n\n\nBut that’s not all. We will be hosting Bingo from 6-8pm! There is no cost to play and you will have the chance to win a variety of prizes including gift baskets\, Loaves & Fishes merchandise\, and more. Come enjoy some tasty beer while supporting our free meal programming in the Hopkins community!
URL:https://www.loavesandfishesmn.org/event/ltd-brewing-give-back-monday-bingo/
LOCATION:LTD Brewing\, 8 8th Ave N\, Hopkins\, Minnesota\, 55343\, United States
ATTACH;FMTTYPE=image/jpeg:https://www.loavesandfishesmn.org/wp-content/uploads/2024/02/BingoLTD-e1707487626210.jpg
END:VEVENT
BEGIN:VEVENT
DTSTART;TZID=UTC:20240229T173000
DTEND;TZID=UTC:20240229T200000
DTSTAMP:20260423T021928
CREATED:20240117T024340Z
LAST-MODIFIED:20240622T212954Z
UID:9621-1709227800-1709236800@www.loavesandfishesmn.org
SUMMARY:Leap Year Get-Together
DESCRIPTION:Celebrate our collective efforts at the Leap Year Get-Together! Join us at the North House in Minneapolis for exciting games\, simulations\, and a chance to win a TV in our raffle. Enjoy free appetizers as well as complimentary beer and wine. This extra day only happens every four years\, so let’s make this Leap Year memorable together! \n\n\n\nThank you for being a part of our mission. We can’t wait to see you there!
URL:https://www.loavesandfishesmn.org/event/leap-year-get-together/
LOCATION:The North House\, 718 N Washington Ave\, Minneapolis\, Minnesota\, 55401\, United States
ATTACH;FMTTYPE=image/png:https://www.loavesandfishesmn.org/wp-content/uploads/2024/01/NorthHouse.png
END:VEVENT
BEGIN:VEVENT
DTSTART;TZID=UTC:20230923T170000
DTEND;TZID=UTC:20230923T210000
DTSTAMP:20260423T021928
CREATED:20230719T022848Z
LAST-MODIFIED:20240819T212605Z
UID:8622-1695488400-1695502800@www.loavesandfishesmn.org
SUMMARY:Fall Jubilee 2023
DESCRIPTION:Register\n\n\n\nCome together with the Loaves & Fishes community to celebrate our collective impact of removing barriers to food access across Minnesota. Mingle with old and new friends alike during our VIP or general reception while raising funds to feed more Minnesotans in need than ever before. \n\n\n\nParking is available onsite. \n\n\n\nCheck out our Fall Jubilee Silent Auction \n\n\n\n\n\n\n\nFeatured Vocalist\n\n\n\nGrace Elizabeth \n\n\n\n\n\n\n\nGrace Elizabeth is a local artist and is the leader of Serenity Worship at Serenity Village Community Church. She released her first solo album\, “The Awakening”\, in 2021 and is currently working on her second album. Grace is deeply involved in our community through her leadership\, passion for uplifting others\, and power of connecting individuals through music. \n\n\n\n\n\n\n\nTicket/Table Prices:\n\n\n\nEarly Bird (before 9/1)\n\n\n\n$250 VIP Admission – $2\,500 Table \n\n\n\n$175 General Admission – $1\,750 Table \n\n\n\nStandard (on/after 9/1)\n\n\n\n$300 VIP Admission – $2\,750 Table \n\n\n\n$200 General Admission – $1\,850 Table \n\n\n\nRegister\n\n\n\n\n\n\n\nTimeline:\n\n\n\n5:00 PM – Exclusive VIP Reception \n\n\n\n6:00 PM – General Reception (includes silent auction\, music\, raffles\, games\, and more) \n\n\n\n6:45 PM – Dinner and Program \n\n\n\n\n\n\n\nSponsors:\n\n\n\nThank you to our incredible sponsors! \n\n\n\nGold Sponsors\n\n\n\nSilver Sponsors\n\n\n\n\n\n\n\nBronze Sponsors\n\n\n\n\n\n\n\n\n\n\n\n\n\n\n\nInterested in becoming a sponsor? Contact Carolyn Gross at 612-377-9810 or cgross@loavesandfishesmn.org.
URL:https://www.loavesandfishesmn.org/event/fall-jubilee-2023/
LOCATION:Serenity Village Community Church\, 4100 Douglas Dr. N\, Crystal\, Minnesota\, 55422\, United States
ATTACH;FMTTYPE=image/jpeg:https://www.loavesandfishesmn.org/wp-content/uploads/2023/07/Image-2.jpeg
END:VEVENT
END:VCALENDAR